BEGIN:VCALENDAR
VERSION:2.0
PRODID:-//Education Technology Office - ECPv6.15.0.1//NONSGML v1.0//EN
CALSCALE:GREGORIAN
METHOD:PUBLISH
X-ORIGINAL-URL:https://edtech.engineering.utoronto.ca
X-WR-CALDESC:Events for Education Technology Office
REFRESH-INTERVAL;VALUE=DURATION:PT1H
X-Robots-Tag:noindex
X-PUBLISHED-TTL:PT1H
BEGIN:VTIMEZONE
TZID:America/Toronto
BEGIN:DAYLIGHT
TZOFFSETFROM:-0500
TZOFFSETTO:-0400
TZNAME:EDT
DTSTART:20250309T070000
END:DAYLIGHT
BEGIN:STANDARD
TZOFFSETFROM:-0400
TZOFFSETTO:-0500
TZNAME:EST
DTSTART:20251102T060000
END:STANDARD
END:VTIMEZONE
BEGIN:VEVENT
DTSTART;TZID=America/Toronto:20251202T120000
DTEND;TZID=America/Toronto:20251202T130000
DTSTAMP:20260422T224656
CREATED:20251031T141603Z
LAST-MODIFIED:20251031T141802Z
UID:10000102-1764676800-1764680400@edtech.engineering.utoronto.ca
SUMMARY:ETO Office Hour - Slide Design
DESCRIPTION:You understand how important design and colour choices are for your slide decks\, but making those decisions can seem really daunting. Join our Slide Design Office Hour and get expert tips to make your presentations clear\, accessible\, and visually engaging. You can expect guidance on:  \n\nchoosing the right colours for accessibility\,\nselecting appropriate chart design for your content\, or\ngetting a quick review of your slides for a cognitive load and overall design check.\n\nDay and time: Tuesdays\, 12pm-1pm via Zoom \nUpcoming hours: \n\nNovember 18\, 2025\nNovember 25\, 2025\nDecember 2\, 2025
URL:https://edtech.engineering.utoronto.ca/event/eto-office-hour-slide-design/2025-12-02/
LOCATION:https://utoronto.zoom.us/j/86998898887
CATEGORIES:FASE Education Technology Office
END:VEVENT
BEGIN:VEVENT
DTSTART;TZID=America/Toronto:20251216T140000
DTEND;TZID=America/Toronto:20251216T150000
DTSTAMP:20260422T224656
CREATED:20251202T190648Z
LAST-MODIFIED:20251216T165046Z
UID:10000126-1765893600-1765897200@edtech.engineering.utoronto.ca
SUMMARY:Build and Organize Your Course: From Template to Homepage (in person)
DESCRIPTION:This drop-in session is part of the Start Strong: Learning Together Winter 2026 series\, designed to help FASE instructors and teaching teams get their Quercus courses ready for the Winter 2026 term. \nIn this session\, you will: \n\nImport and customize the FASE Quercus course template to establish your course structure.\nOrganize your content using Modules\, Pages\, and the Course Navigation menu.\nCreate a welcoming homepage with links\, visuals\, and key information.\nApply layout best practices to content pages to improve the student experience.\n\nIn person location: ETO Studio (BA 3116) | Bahen Centre for Information Technology | 40 St. George Street. \nNo registration required. Drop by any time during the scheduled window with your laptop and questions. \nWant a reminder? Use the button below to add this session to your calendar.
URL:https://edtech.engineering.utoronto.ca/event/build-and-organize-your-course-from-template-to-homepage-in-person/
LOCATION:ETO Filming Studio\, Rm. 3116 Bahen Building | 40 St. George St.\, Toronto\, Ontario\, M5S 2E4\, Canada
CATEGORIES:FASE Education Technology Office
ATTACH;FMTTYPE=image/png:https://edtech.engineering.utoronto.ca/wp-content/uploads/sites/38/2025/12/StartStrong_blogcard_Winter2026.png
END:VEVENT
BEGIN:VEVENT
DTSTART;TZID=America/Toronto:20251218T110000
DTEND;TZID=America/Toronto:20251218T120000
DTSTAMP:20260422T224656
CREATED:20251202T190753Z
LAST-MODIFIED:20251216T165205Z
UID:10000127-1766055600-1766059200@edtech.engineering.utoronto.ca
SUMMARY:Build and Organize Your Course: From Template to Homepage (online)
DESCRIPTION:This drop-in session is part of the Start Strong: Learning Together Winter 2026 series\, designed to help FASE instructors and teaching teams get their Quercus courses ready for the Winter 2026 term. \nIn this session\, you will: \n\nImport and customize the FASE Quercus course template to establish your course structure.\nOrganize your content using Modules\, Pages\, and the Course Navigation menu.\nCreate a welcoming homepage with links\, visuals\, and key information.\nApply layout best practices to content pages to improve the student experience.\n\nOnline location: Zoom (session link). Please join with your U of T-licensed Zoom account. \nNo registration required. Drop by any time during the scheduled window with your laptop and questions. \nWant a reminder? Use the button below to add this session to your calendar.
URL:https://edtech.engineering.utoronto.ca/event/build-and-organize-your-course-from-template-to-homepage-online/
LOCATION:https://edtech.engineering.utoronto.ca/event/build-and-organize-your-course-from-template-to-homepage-online/
CATEGORIES:FASE Education Technology Office
ATTACH;FMTTYPE=image/png:https://edtech.engineering.utoronto.ca/wp-content/uploads/sites/38/2025/12/StartStrong_blogcard_Winter2026.png
END:VEVENT
END:VCALENDAR