BEGIN:VCALENDAR
VERSION:2.0
PRODID:-//Education Technology Office - ECPv6.15.0.1//NONSGML v1.0//EN
CALSCALE:GREGORIAN
METHOD:PUBLISH
X-ORIGINAL-URL:https://edtech.engineering.utoronto.ca
X-WR-CALDESC:Events for Education Technology Office
REFRESH-INTERVAL;VALUE=DURATION:PT1H
X-Robots-Tag:noindex
X-PUBLISHED-TTL:PT1H
BEGIN:VTIMEZONE
TZID:America/Toronto
BEGIN:DAYLIGHT
TZOFFSETFROM:-0500
TZOFFSETTO:-0400
TZNAME:EDT
DTSTART:20250309T070000
END:DAYLIGHT
BEGIN:STANDARD
TZOFFSETFROM:-0400
TZOFFSETTO:-0500
TZNAME:EST
DTSTART:20251102T060000
END:STANDARD
END:VTIMEZONE
BEGIN:VEVENT
DTSTART;TZID=America/Toronto:20251201T130000
DTEND;TZID=America/Toronto:20251201T143000
DTSTAMP:20260421T013117
CREATED:20251107T205455Z
LAST-MODIFIED:20251107T205455Z
UID:10000117-1764594000-1764599400@edtech.engineering.utoronto.ca
SUMMARY:Developing AI-Literacy Activities for Meaningful Learning in Tutorials and Labs
DESCRIPTION:Asteaching assistants\, you are often the first point of contact for students asthey experiment\, question\, and work through new ideas and tools. This makesyour role especially important in helping students develop not only conceptualknowledge\, but also the ability to engage with emerging technologies likegenerative AI (GenAI) in a thoughtful\, critical\, and responsible way. \nThissession is designed to support you in bridging course goals with practical\,day-to-day learning experiences in labs and tutorials. By focusing on AIliteracy\, you will gain concrete strategies to help students criticallyevaluate AI-generated content\, recognize the ethical and social stakes of AIsystems\, and integrate discipline-specific activities that foster confidenceand discernment in using these tools\, as well as foundational understanding ofcourse material. \nThis session’s approach will be guided by the University of Toronto Libraries’ AI LiteracyFramework and the GenAI Literacy Course Modules from Open UToronto\, which together emphasize three interconnected dimensions of AI literacy: understanding\, using\, and evaluating AI tools. This foundation ensures that activities you design are not just about functionality\, but also about developing critical awareness and responsible engagement in relation to course content. Together\, these resources provide a scaffold for activity design that is evidence-based\, adaptable\, and aligned with the values of ethical\, equitable teaching and learning.
URL:https://edtech.engineering.utoronto.ca/event/developing-ai-literacy-activities-for-meaningful-learning-in-tutorials-and-labs/
CATEGORIES:Teaching Assistants' Training Program
END:VEVENT
BEGIN:VEVENT
DTSTART;TZID=America/Toronto:20251202T140000
DTEND;TZID=America/Toronto:20251202T150000
DTSTAMP:20260421T013117
CREATED:20251107T205757Z
LAST-MODIFIED:20251107T205757Z
UID:10000118-1764684000-1764687600@edtech.engineering.utoronto.ca
SUMMARY:Getting started with Generative AI tools at U of T
DESCRIPTION:Join us for an interactive virtual drop-in session designed for University of Toronto instructors and staff. We will provide an overview of the approved generative AI tools at the University and give demonstrations which will provide you with the opportunity to get hands-on experience with the suite of approved tools. \nFocus: Our primary goal is to familiarize you with how to access and use generative AI tools in a secure and responsible manner. We’ll guide you through logging in with privacy protections in place and compare the differences between the various technologies. \nWhat to Expect: \n\nA comparison of the various approved generative AI tools at the University of Toronto.\nA walkthrough of the secure login process for accessing U of T–approved generative AI tools.\nLive demonstrations of key features across various generative AI platforms.\nOpen Q&A to address your questions\, concerns\, or ideas.\n\nDrop in anytime between 2:00 PM and 3:00 PM—stay for a few minutes or the full session! \nDon’t miss this chance to explore how approved generative AI tools can support your day-to-day work and enrich your teaching and research. We look forward to helping you confidently engage with these innovative tools.
URL:https://edtech.engineering.utoronto.ca/event/getting-started-with-generative-ai-tools-at-u-of-t-3/
CATEGORIES:CTSI
END:VEVENT
BEGIN:VEVENT
DTSTART;TZID=America/Toronto:20251204T113000
DTEND;TZID=America/Toronto:20251204T120000
DTSTAMP:20260421T013117
CREATED:20251107T212652Z
LAST-MODIFIED:20251107T212652Z
UID:10000120-1764847800-1764849600@edtech.engineering.utoronto.ca
SUMMARY:UDL Conversation with Will Heikoop
DESCRIPTION:Will Heikoop\, Coordinator\, Digital Learning Innovation\, Information Technology Services  \nUniversal Design for Learning (UDL) is an educational framework that leverages the values of accessibility and inclusion in designing accessible\, inclusive\, and usable methods\, materials\, and environments that reduce learning barriers and welcome learner variability. \nThe UDL Conversations Series highlights practices and considerations from U of T staff and instructors. Come chat with and learn from our community in fostering accessible and inclusive teaching and learning for all.
URL:https://edtech.engineering.utoronto.ca/event/udl-conversation-with-will-heikoop/
CATEGORIES:CTSI
END:VEVENT
BEGIN:VEVENT
DTSTART;TZID=America/Toronto:20251204T160000
DTEND;TZID=America/Toronto:20251204T180000
DTSTAMP:20260421T013117
CREATED:20251107T210517Z
LAST-MODIFIED:20251107T210517Z
UID:10000119-1764864000-1764871200@edtech.engineering.utoronto.ca
SUMMARY:How to handle grading gripes and time crunches as a TA: GradLife + TATP (In-Person)
DESCRIPTION:Being a teaching assistant during the end of term can feel overwhelming! You’ve got piles of assignments to grade\, students contacting you who are unhappy with their marks\, and your own deadlines quickly approaching. This workshop is specifically designed for graduate students in TA roles who are navigating the intense demands of grading season (and intense demands of graded students). \nThis workshop will be led by expert facilitators and experienced TAs. It will help participants: \n\nUnderstand best practices for fair\, consistent\, and efficient grading\nApply professional and empathetic communication techniques when responding to student complaints and regrade requests (without making you want to pull out your hair!)\nDevelop techniques for managing your time and workload when you’re balancing your own final assignments or research\n\nA small treat will also be provided for all attendees! \nThis workshop is brought to you by the Teaching Assistants’ Training Program in partnership with GradLife. \nAccessibility notes: \n\nThis workshop will include some participation\, but you can choose to engage at a level that feels comfortable to you.\n The space is wheelchair accessible.\nGender inclusive washrooms are available in the building.
URL:https://edtech.engineering.utoronto.ca/event/how-to-handle-grading-gripes-and-time-crunches-as-a-ta-gradlife-tatp-in-person/
LOCATION:Blackburn Room (4th Floor\, Robarts Library)\, 130 St. George St.\, Toronto\, ON\, M5S 0C2\, Canada
CATEGORIES:Teaching Assistants' Training Program
END:VEVENT
END:VCALENDAR